BEGIN:VCALENDAR
VERSION:2.0
PRODID:-//www.qtickets.nl
CALSCALE:GREGORIAN
BEGIN:VEVENT
DTSTAMP:20260424T182458
UID:8EEFE4D953F495EE
DTSTART:20251213T140000
DTEND:20251214T180000
SUMMARY:De Duystere Markt Genk 2025
DESCRIPTION:
LOCATION:Thor Park\, Andre Dumontlaan 67\, 3600 Genk\, Belgie
SEQUENCE:0
BEGIN:VALARM
ACTION:DISPLAY
DESCRIPTION:De Duystere Markt Genk 2025
TRIGGER:-PT1H
END:VALARM
END:VEVENT
END:VCALENDAR