BEGIN:VCALENDAR
VERSION:2.0
PRODID:-//www.qtickets.nl
CALSCALE:GREGORIAN
BEGIN:VEVENT
DTSTAMP:20260424T183131
UID:97ABA29231CA48D1
DTSTART:20250927T120000
DTEND:20250928T180000
SUMMARY:De Duystere Markt Roeselare
DESCRIPTION:
LOCATION:Fabriekspand\, Veldstraat 59\, 8800 Roeselare\, Belgie
SEQUENCE:0
BEGIN:VALARM
ACTION:DISPLAY
DESCRIPTION:De Duystere Markt Roeselare
TRIGGER:-PT1H
END:VALARM
END:VEVENT
END:VCALENDAR